BEGIN:VCALENDAR
VERSION:2.0
PRODID:-//wp-events-plugin.com//7.2.3.1//EN
TZID:Europe/Brussels
X-WR-TIMEZONE:Europe/Brussels
BEGIN:VEVENT
UID:1@lorenadelmar.com
DTSTART;TZID=Europe/Brussels:20251105T201500
DTEND;TZID=Europe/Brussels:20251105T213000
DTSTAMP:20251021T130132Z
URL:https://www.lorenadelmar.com/events/jazz-wilrijk/
SUMMARY:Lorena del Mar Quartet @ Roasted Jazz in Wilrijk
DESCRIPTION:
LOCATION:De Kern\, kern 18\, Antwerpen\, Belgium
X-APPLE-STRUCTURED-LOCATION;VALUE=URI;X-ADDRESS=kern 18\, Antwerpen\, Belgi
 um;X-APPLE-RADIUS=100;X-TITLE=De Kern:geo:0,0
END:VEVENT
BEGIN:VTIMEZONE
TZID:Europe/Brussels
X-LIC-LOCATION:Europe/Brussels
BEGIN:STANDARD
DTSTART:20251026T020000
TZOFFSETFROM:+0200
TZOFFSETTO:+0100
TZNAME:CET
END:STANDARD
END:VTIMEZONE
END:VCALENDAR