BEGIN:VCALENDAR
VERSION:2.0
PRODID:-//wp-events-plugin.com//7.2.3.1//EN
TZID:Europe/Brussels
X-WR-TIMEZONE:Europe/Brussels
BEGIN:VEVENT
UID:4@lorenadelmar.com
DTSTART;TZID=Europe/Brussels:20251014T200000
DTEND;TZID=Europe/Brussels:20251014T220000
DTSTAMP:20251021T095856Z
URL:https://www.lorenadelmar.com/events/kimono-garden-2/
SUMMARY:Kimono Garden
DESCRIPTION:
LOCATION:https://dekoer.be/
END:VEVENT
BEGIN:VTIMEZONE
TZID:Europe/Brussels
X-LIC-LOCATION:Europe/Brussels
BEGIN:DAYLIGHT
DTSTART:20250330T030000
TZOFFSETFROM:+0100
TZOFFSETTO:+0200
TZNAME:CEST
END:DAYLIGHT
END:VTIMEZONE
END:VCALENDAR