BEGIN:VCALENDAR
VERSION:2.0
PRODID:-//wp-events-plugin.com//7.2.3.1//EN
TZID:Europe/Brussels
X-WR-TIMEZONE:Europe/Brussels
BEGIN:VEVENT
UID:2@lorenadelmar.com
DTSTART;TZID=Europe/Brussels:20260110T203000
DTEND;TZID=Europe/Brussels:20260110T223000
DTSTAMP:20251021T095537Z
URL:https://www.lorenadelmar.com/events/lorena-del-mar-quartet-lokerse-jaz
 zklub/
SUMMARY:Lorena del Mar Quartet @ Lokerse Jazzklub
DESCRIPTION:
LOCATION:Lokerse Jazzklub\,  Sportlaan\, Lokaal atletiepiste AVLO\, Lokeren
 \, Belgium
X-APPLE-STRUCTURED-LOCATION;VALUE=URI;X-ADDRESS= Sportlaan\, Lokaal atletie
 piste AVLO\, Lokeren\, Belgium;X-APPLE-RADIUS=100;X-TITLE=Lokerse Jazzklub
 :geo:0,0
END:VEVENT
BEGIN:VTIMEZONE
TZID:Europe/Brussels
X-LIC-LOCATION:Europe/Brussels
BEGIN:STANDARD
DTSTART:20251026T020000
TZOFFSETFROM:+0200
TZOFFSETTO:+0100
TZNAME:CET
END:STANDARD
END:VTIMEZONE
END:VCALENDAR